BEGIN:VCALENDAR
VERSION:2.0
PRODID:-//Pendleside Corporate Challenge - ECPv6.10.1.1//NONSGML v1.0//EN
CALSCALE:GREGORIAN
METHOD:PUBLISH
X-WR-CALNAME:Pendleside Corporate Challenge
X-ORIGINAL-URL:https://corporatechallenge.pendleside.org.uk
X-WR-CALDESC:Events for Pendleside Corporate Challenge
REFRESH-INTERVAL;VALUE=DURATION:PT1H
X-Robots-Tag:noindex
X-PUBLISHED-TTL:PT1H
BEGIN:VTIMEZONE
TZID:Europe/London
BEGIN:DAYLIGHT
TZOFFSETFROM:+0000
TZOFFSETTO:+0100
TZNAME:BST
DTSTART:20240331T010000
END:DAYLIGHT
BEGIN:STANDARD
TZOFFSETFROM:+0100
TZOFFSETTO:+0000
TZNAME:GMT
DTSTART:20241027T010000
END:STANDARD
END:VTIMEZONE
BEGIN:VEVENT
DTSTART;TZID=Europe/London:20240706T100000
DTEND;TZID=Europe/London:20240706T200000
DTSTAMP:20260425T233713
CREATED:20240307T120436Z
LAST-MODIFIED:20240528T110407Z
UID:902-1720260000-1720296000@corporatechallenge.pendleside.org.uk
SUMMARY:Pendle Pub Walk
DESCRIPTION:Join Pendleside Hospice for its 15th annual Pendle Pub Walk\, around the stunning Pendle countryside\, using its finest hostelries as way-points.\nThe walk is organised by Pendleside Hospice and Burnley Pendleside Rotary Club to raise money for Pendleside\, with £5 of each registration fee going to other local charities who are supported by the Rotary Club. \nThis year it is expected that over 2\,000 walkers will take part in the 13-mile walk (approx.)\, which is made up of a combination of countryside and road-walking. The walk is a circular route through some of Pendle’s most scenic countryside. Along the route there will be a number of official venues for you to have a rest\, purchase refreshments and enjoy live entertainment. This year’s official venues will be confirmed in the coming months… follow the ‘Pendle Pub Walk’ Facebook page for the most up to date information. \nAll walkers must ‘check-in’ at one of the two designated check-in points on the day between 10am – 12 noon – Thatch and Thistle (Barrowford) or Pendle Inn (Barley). You can start your walk at any point along the route\, but make sure to pass through a check-in point during the times stated. The event will officially end at 8pm. \nThe event is kindly sponsored by Alderson and Horan Funeral Services. \nSign up today
URL:https://corporatechallenge.pendleside.org.uk/event/pendle-pub-walk/
CATEGORIES:Pendleside Fundraisers
ATTACH;FMTTYPE=image/jpeg:https://corporatechallenge.pendleside.org.uk/wp-content/uploads/2024/03/Pendle-Pub-Walk-e1716894240183.jpg
END:VEVENT
END:VCALENDAR